BEGIN:VCALENDAR
VERSION:2.0
PRODID:-//Schudio.com//Schudio Calendar 1.0//EN
CALSCALE:GREGORIAN
METHOD:PUBLISH
X-WR-CALNAME:St Barnabas Primary School, A Church of England Academy
X-WR-TIMEZONE:Europe/London
BEGIN:VEVENT
SUMMARY:Summer term starts
UID:d84813d6af93e2fdd1296f0ea1694fe0@schudio.com
SEQUENCE:0
STATUS:CONFIRMED
TRANSP:TRANSPARENT
DTSTART:20260413T085500
DTEND:20260413T153000
DTSTAMP:20260419T135534Z
CREATED:20220817T121751Z
LAST-MODIFIED:20251017T114547Z
CATEGORIES:
LOCATION:
ORGANIZER:
DESCRIPTION:Monday 13th April: Summer term starts. Classroom doors open at 
 8.45am and school starts at 8.55am.
END:VEVENT
END:VCALENDAR